BEGIN:VCALENDAR
VERSION:2.0
PRODID:-//www.rmdc.net//NONSGML kigkonsult.se iCalcreator 2.30.10//
CALSCALE:GREGORIAN
METHOD:PUBLISH
UID:03895f5e-95e6-4d3d-96ea-6ffb10caf052
X-WR-CALDESC:Join us for a gentle exercise class!
X-WR-RELCALID:17e635dcba097b5040abf8ae9eccfded
X-WR-TIMEZONE:America/Denver
BEGIN:VTIMEZONE
TZID:America/Denver
BEGIN:STANDARD
TZNAME:MST
DTSTART:20251102T020000
TZOFFSETFROM:-0600
TZOFFSETTO:-0700
RDATE:20261101T020000
END:STANDARD
BEGIN:DAYLIGHT
TZNAME:MDT
DTSTART:20260308T020000
TZOFFSETFROM:-0700
TZOFFSETTO:-0600
RDATE:20270314T020000
END:DAYLIGHT
END:VTIMEZONE
BEGIN:VEVENT
UID:22ead091-ec3b-4881-9e44-27f4f84680c2
DTSTAMP:20260425T213153Z
DESCRIPTION:Join us for a gentle exercise class!
DTSTART;TZID=America/Denver:20260311T103000
DTEND;TZID=America/Denver:20260311T110000
LOCATION:200 South Cruse\, Helena\, MT 59601 US
SUMMARY:Chi Gong
END:VEVENT
END:VCALENDAR
