BEGIN:VCALENDAR
VERSION:2.0
PRODID:-//www.rmdc.net//NONSGML kigkonsult.se iCalcreator 2.30.10//
CALSCALE:GREGORIAN
METHOD:PUBLISH
UID:34aff284-06fa-4609-80ac-31c5994fd877
X-WR-CALDESC:Join us for a gentle exercise class!
X-WR-RELCALID:a4cf78b9a17ea686146e741f7d8892ff
X-WR-TIMEZONE:America/Denver
BEGIN:VTIMEZONE
TZID:America/Denver
BEGIN:STANDARD
TZNAME:MST
DTSTART:20251102T020000
TZOFFSETFROM:-0600
TZOFFSETTO:-0700
RDATE:20261101T020000
END:STANDARD
BEGIN:DAYLIGHT
TZNAME:MDT
DTSTART:20260308T020000
TZOFFSETFROM:-0700
TZOFFSETTO:-0600
RDATE:20270314T020000
END:DAYLIGHT
END:VTIMEZONE
BEGIN:VEVENT
UID:53e52704-7c06-4b66-9d96-85170f44fd22
DTSTAMP:20260425T214555Z
DESCRIPTION:Join us for a gentle exercise class!
DTSTART;TZID=America/Denver:20260318T103000
DTEND;TZID=America/Denver:20260318T110000
LOCATION:200 South Cruse\, Helena\, MT 59601 US
SUMMARY:Chi Gong
END:VEVENT
END:VCALENDAR
