BEGIN:VCALENDAR
VERSION:2.0
PRODID:-//www.rmdc.net//NONSGML kigkonsult.se iCalcreator 2.30.10//
CALSCALE:GREGORIAN
METHOD:PUBLISH
UID:63d6995f-be24-40de-b7a4-cc329b29bb03
X-WR-CALDESC:Join us for a gentle exercise class!
X-WR-RELCALID:37915c474f6f502e4c508404474f9a13
X-WR-TIMEZONE:America/Denver
BEGIN:VTIMEZONE
TZID:America/Denver
BEGIN:STANDARD
TZNAME:MST
DTSTART:20251102T020000
TZOFFSETFROM:-0600
TZOFFSETTO:-0700
RDATE:20261101T020000
END:STANDARD
BEGIN:DAYLIGHT
TZNAME:MDT
DTSTART:20260308T020000
TZOFFSETFROM:-0700
TZOFFSETTO:-0600
RDATE:20270314T020000
END:DAYLIGHT
END:VTIMEZONE
BEGIN:VEVENT
UID:e6be0da7-c099-4836-ae91-d07686b44eae
DTSTAMP:20260425T214610Z
DESCRIPTION:Join us for a gentle exercise class!
DTSTART;TZID=America/Denver:20260401T103000
DTEND;TZID=America/Denver:20260401T110000
LOCATION:200 South Cruse\, Helena\, MT 59601 US
SUMMARY:Chi Gong
END:VEVENT
END:VCALENDAR
