BEGIN:VCALENDAR
VERSION:2.0
PRODID:-//www.rmdc.net//NONSGML kigkonsult.se iCalcreator 2.30.10//
CALSCALE:GREGORIAN
METHOD:PUBLISH
UID:3d958474-eb62-4465-8884-58d7f2fb4996
X-WR-CALDESC:
X-WR-RELCALID:9d0a8ac5042f19fad1e98f2685ee6d3e
X-WR-TIMEZONE:America/Denver
BEGIN:VTIMEZONE
TZID:America/Denver
BEGIN:STANDARD
TZNAME:MST
DTSTART:20251102T020000
TZOFFSETFROM:-0600
TZOFFSETTO:-0700
RDATE:20261101T020000
END:STANDARD
BEGIN:DAYLIGHT
TZNAME:MDT
DTSTART:20260308T020000
TZOFFSETFROM:-0700
TZOFFSETTO:-0600
RDATE:20270314T020000
END:DAYLIGHT
END:VTIMEZONE
BEGIN:VEVENT
UID:21231efb-8d7d-48b1-92d5-c7f7dcda516f
DTSTAMP:20260426T003722Z
DESCRIPTION:
DTSTART;TZID=America/Denver:20260407T130000
DTEND;TZID=America/Denver:20260407T160000
LOCATION:
SUMMARY:Pinochle
END:VEVENT
END:VCALENDAR
