BEGIN:VCALENDAR
VERSION:2.0
PRODID:-//www.rmdc.net//NONSGML kigkonsult.se iCalcreator 2.30.10//
CALSCALE:GREGORIAN
METHOD:PUBLISH
UID:eba7a84a-553d-4996-bf87-a081b9df1b8a
X-WR-CALDESC:
X-WR-RELCALID:c1d7543f3a7d6305e9cf2a8411f43f15
X-WR-TIMEZONE:America/Denver
BEGIN:VTIMEZONE
TZID:America/Denver
BEGIN:STANDARD
TZNAME:MST
DTSTART:20251102T020000
TZOFFSETFROM:-0600
TZOFFSETTO:-0700
RDATE:20261101T020000
END:STANDARD
BEGIN:DAYLIGHT
TZNAME:MDT
DTSTART:20260308T020000
TZOFFSETFROM:-0700
TZOFFSETTO:-0600
RDATE:20270314T020000
END:DAYLIGHT
END:VTIMEZONE
BEGIN:VEVENT
UID:fa45fcfe-fc4d-4bc3-b351-6780b802306b
DTSTAMP:20260425T214635Z
DESCRIPTION:
DTSTART;TZID=America/Denver:20260414T130000
DTEND;TZID=America/Denver:20260414T160000
LOCATION:
SUMMARY:Pinochle
END:VEVENT
END:VCALENDAR
