BEGIN:VCALENDAR
VERSION:2.0
PRODID:-//www.rmdc.net//NONSGML kigkonsult.se iCalcreator 2.30.10//
CALSCALE:GREGORIAN
METHOD:PUBLISH
UID:a4b69b07-64b0-4454-8405-d27b2dbb6a79
X-WR-CALDESC:
X-WR-RELCALID:5b08e050c684bb9aa6c6ab7cf75c8c44
X-WR-TIMEZONE:America/Denver
BEGIN:VTIMEZONE
TZID:America/Denver
BEGIN:STANDARD
TZNAME:MST
DTSTART:20251102T020000
TZOFFSETFROM:-0600
TZOFFSETTO:-0700
RDATE:20261101T020000
RDATE:20271107T020000
END:STANDARD
BEGIN:DAYLIGHT
TZNAME:MDT
DTSTART:20260308T020000
TZOFFSETFROM:-0700
TZOFFSETTO:-0600
RDATE:20270314T020000
END:DAYLIGHT
END:VTIMEZONE
BEGIN:VEVENT
UID:4c017a18-166d-46d0-ae21-3fc74b55a998
DTSTAMP:20260425T232110Z
DESCRIPTION:
DTSTART;TZID=America/Denver:20260611T130000
DTEND;TZID=America/Denver:20260611T150000
LOCATION:Neighborhood Center Dance Floor
SUMMARY:Wood Carving
END:VEVENT
END:VCALENDAR
