BEGIN:VCALENDAR
VERSION:2.0
PRODID:-//www.rmdc.net//NONSGML kigkonsult.se iCalcreator 2.30.10//
CALSCALE:GREGORIAN
METHOD:PUBLISH
UID:34800a90-5934-4074-a009-189601567563
X-WR-CALDESC:
X-WR-RELCALID:098b4b18c2e99da8ffdd06638f3cd501
X-WR-TIMEZONE:America/Denver
BEGIN:VTIMEZONE
TZID:America/Denver
BEGIN:STANDARD
TZNAME:MST
DTSTART:20251102T020000
TZOFFSETFROM:-0600
TZOFFSETTO:-0700
RDATE:20261101T020000
RDATE:20271107T020000
END:STANDARD
BEGIN:DAYLIGHT
TZNAME:MDT
DTSTART:20260308T020000
TZOFFSETFROM:-0700
TZOFFSETTO:-0600
RDATE:20270314T020000
END:DAYLIGHT
END:VTIMEZONE
BEGIN:VEVENT
UID:1d1681b5-086e-4244-b31d-3592ac137b7d
DTSTAMP:20260426T032203Z
DESCRIPTION:
DTSTART;TZID=America/Denver:20260803T103000
DTEND;TZID=America/Denver:20260803T111500
LOCATION:Neighborhood Center Card Room
SUMMARY:Jennie's Arthritis Foundation Exercise Class
END:VEVENT
END:VCALENDAR
