BEGIN:VCALENDAR
VERSION:2.0
PRODID:-//www.rmdc.net//NONSGML kigkonsult.se iCalcreator 2.30.10//
CALSCALE:GREGORIAN
METHOD:PUBLISH
UID:b9fd6d87-1fc3-490e-ab9c-80d8d45dd54a
X-WR-CALDESC:
X-WR-RELCALID:40220d50449abec544a107ee010b74ec
X-WR-TIMEZONE:America/Denver
BEGIN:VTIMEZONE
TZID:America/Denver
BEGIN:STANDARD
TZNAME:MST
DTSTART:20251102T020000
TZOFFSETFROM:-0600
TZOFFSETTO:-0700
RDATE:20261101T020000
RDATE:20271107T020000
END:STANDARD
BEGIN:DAYLIGHT
TZNAME:MDT
DTSTART:20260308T020000
TZOFFSETFROM:-0700
TZOFFSETTO:-0600
RDATE:20270314T020000
END:DAYLIGHT
END:VTIMEZONE
BEGIN:VEVENT
UID:c0c8bfaa-9d9f-44d7-b8d4-fd33b88c30bc
DTSTAMP:20260426T032106Z
DESCRIPTION:
DTSTART;TZID=America/Denver:20260804T130000
DTEND;TZID=America/Denver:20260804T160000
LOCATION:
SUMMARY:Pinochle
END:VEVENT
END:VCALENDAR
