BEGIN:VCALENDAR
VERSION:2.0
PRODID:-//www.rmdc.net//NONSGML kigkonsult.se iCalcreator 2.30.10//
CALSCALE:GREGORIAN
METHOD:PUBLISH
UID:5c0ac478-46be-4366-88a6-60cb834d89e7
X-WR-CALDESC:
X-WR-RELCALID:5d69265731c2fe072573e016ee3dbc8e
X-WR-TIMEZONE:America/Denver
BEGIN:VTIMEZONE
TZID:America/Denver
BEGIN:STANDARD
TZNAME:MST
DTSTART:20251102T020000
TZOFFSETFROM:-0600
TZOFFSETTO:-0700
RDATE:20261101T020000
RDATE:20271107T020000
END:STANDARD
BEGIN:DAYLIGHT
TZNAME:MDT
DTSTART:20260308T020000
TZOFFSETFROM:-0700
TZOFFSETTO:-0600
RDATE:20270314T020000
END:DAYLIGHT
END:VTIMEZONE
BEGIN:VEVENT
UID:db565092-d588-4b10-97a9-aaeb801df6e8
DTSTAMP:20260426T032202Z
DESCRIPTION:
DTSTART;TZID=America/Denver:20260811T130000
DTEND;TZID=America/Denver:20260811T160000
LOCATION:
SUMMARY:Pinochle
END:VEVENT
END:VCALENDAR
