BEGIN:VCALENDAR
VERSION:2.0
PRODID:-//www.rmdc.net//NONSGML kigkonsult.se iCalcreator 2.30.10//
CALSCALE:GREGORIAN
METHOD:PUBLISH
UID:b7e2337e-d1c0-4ed1-8dad-dc7e98c029f0
X-WR-CALDESC:Join us for a gentle exercise class!
X-WR-RELCALID:be462abafb0a653844f21fafc9673044
X-WR-TIMEZONE:America/Denver
BEGIN:VTIMEZONE
TZID:America/Denver
BEGIN:STANDARD
TZNAME:MST
DTSTART:20251102T020000
TZOFFSETFROM:-0600
TZOFFSETTO:-0700
RDATE:20261101T020000
RDATE:20271107T020000
END:STANDARD
BEGIN:DAYLIGHT
TZNAME:MDT
DTSTART:20260308T020000
TZOFFSETFROM:-0700
TZOFFSETTO:-0600
RDATE:20270314T020000
END:DAYLIGHT
END:VTIMEZONE
BEGIN:VEVENT
UID:10c0a333-3313-426d-b74c-cf0d46b98b26
DTSTAMP:20260426T032024Z
DESCRIPTION:Join us for a gentle exercise class!
DTSTART;TZID=America/Denver:20260826T103000
DTEND;TZID=America/Denver:20260826T110000
LOCATION:200 South Cruse\, Helena\, MT 59601 US
SUMMARY:Chi Gong
END:VEVENT
END:VCALENDAR
