BEGIN:VCALENDAR
VERSION:2.0
PRODID:-//www.rmdc.net//NONSGML kigkonsult.se iCalcreator 2.30.10//
CALSCALE:GREGORIAN
METHOD:PUBLISH
UID:038b53ec-d8d9-47ec-8fbc-7c9a432397bb
X-WR-CALDESC:
X-WR-RELCALID:29f0af6b78e034ffc4194fcc3e7f21ee
X-WR-TIMEZONE:America/Denver
BEGIN:VTIMEZONE
TZID:America/Denver
BEGIN:STANDARD
TZNAME:MST
DTSTART:20251102T020000
TZOFFSETFROM:-0600
TZOFFSETTO:-0700
RDATE:20261101T020000
END:STANDARD
BEGIN:DAYLIGHT
TZNAME:MDT
DTSTART:20260308T020000
TZOFFSETFROM:-0700
TZOFFSETTO:-0600
RDATE:20270314T020000
END:DAYLIGHT
END:VTIMEZONE
BEGIN:VEVENT
UID:d258d622-4ab4-4e88-bd1d-a48447e26032
DTSTAMP:20260425T195718Z
DESCRIPTION:
DTSTART;TZID=America/Denver:20260422T130000
DTEND;TZID=America/Denver:20260422T150000
LOCATION:Dining Room
SUMMARY:Bingo
END:VEVENT
END:VCALENDAR
