BEGIN:VCALENDAR
VERSION:2.0
PRODID:-//www.rmdc.net//NONSGML kigkonsult.se iCalcreator 2.30.10//
CALSCALE:GREGORIAN
METHOD:PUBLISH
UID:1dafa74f-fc8c-43bf-a766-b721328a3afd
X-WR-CALDESC:
X-WR-RELCALID:c7395a7d25d4d1acded0f9a4d38ab0c3
X-WR-TIMEZONE:America/Denver
BEGIN:VTIMEZONE
TZID:America/Denver
BEGIN:STANDARD
TZNAME:MST
DTSTART:20171105T020000
TZOFFSETFROM:-0600
TZOFFSETTO:-0700
RDATE:20181104T020000
RDATE:20191103T020000
END:STANDARD
BEGIN:DAYLIGHT
TZNAME:MDT
DTSTART:20180311T020000
TZOFFSETFROM:-0700
TZOFFSETTO:-0600
RDATE:20190310T020000
RDATE:20200308T020000
END:DAYLIGHT
END:VTIMEZONE
BEGIN:VEVENT
UID:9ab8f46a-8af8-4af0-b4f3-4dcbda360a2e
DTSTAMP:20260426T031750Z
DESCRIPTION:
DTSTART;TZID=America/Denver:20181016T090000
DTEND;TZID=America/Denver:20181016T100000
LOCATION:Neighborhood Center
SUMMARY:Retirement Committee Meeting
END:VEVENT
END:VCALENDAR
