BEGIN:VCALENDAR
VERSION:2.0
PRODID:-//www.rmdc.net//NONSGML kigkonsult.se iCalcreator 2.30.10//
CALSCALE:GREGORIAN
METHOD:PUBLISH
UID:2a9027b2-e34c-4d53-8234-a525f70c844e
X-WR-CALDESC:
X-WR-RELCALID:09741a1b0653589a09576c83dbcd713a
X-WR-TIMEZONE:America/Denver
BEGIN:VTIMEZONE
TZID:America/Denver
BEGIN:STANDARD
TZNAME:MST
DTSTART:20181104T020000
TZOFFSETFROM:-0600
TZOFFSETTO:-0700
RDATE:20191103T020000
END:STANDARD
BEGIN:DAYLIGHT
TZNAME:MDT
DTSTART:20180311T020000
TZOFFSETFROM:-0700
TZOFFSETTO:-0600
RDATE:20190310T020000
RDATE:20200308T020000
END:DAYLIGHT
END:VTIMEZONE
BEGIN:VEVENT
UID:2ea473ac-e2b2-4155-88ed-f77075013a20
DTSTAMP:20260426T031744Z
DESCRIPTION:
DTSTART;TZID=America/Denver:20181129T153000
DTEND;TZID=America/Denver:20181129T173000
LOCATION:RMDC Neighborhood Center - Card Room
SUMMARY:RMDC Board of Directors Meeting
END:VEVENT
END:VCALENDAR
