BEGIN:VCALENDAR
VERSION:2.0
PRODID:-//www.rmdc.net//NONSGML kigkonsult.se iCalcreator 2.30.10//
CALSCALE:GREGORIAN
METHOD:PUBLISH
UID:3d3f144a-87c2-47dd-9f07-0134aefb03d5
X-WR-CALDESC:Join Rocky's Head Start Parent Policy Council and the Rotary C
 lub of Helena Sunrise on January 17 at the Staggering Ox for a Trivia Nigh
 t! This night is a fundraiser for our Head Start Parent Policy Council spo
 nsored by the Rotary Club of Helena Sunrise. Bring your friends and family
  to join us for a fun evening! \n
X-WR-RELCALID:713e3017a59d825586b39d468a2915f3
X-WR-TIMEZONE:America/Denver
BEGIN:VTIMEZONE
TZID:America/Denver
BEGIN:STANDARD
TZNAME:MST
DTSTART:20181104T020000
TZOFFSETFROM:-0600
TZOFFSETTO:-0700
RDATE:20191103T020000
END:STANDARD
BEGIN:DAYLIGHT
TZNAME:MDT
DTSTART:20180311T020000
TZOFFSETFROM:-0700
TZOFFSETTO:-0600
RDATE:20190310T020000
RDATE:20200308T020000
END:DAYLIGHT
END:VTIMEZONE
BEGIN:VEVENT
UID:9a80b5d3-01e5-4c42-89dc-3e64e6885980
DTSTAMP:20260425T225509Z
DESCRIPTION:Join Rocky's Head Start Parent Policy Council and the Rotary Cl
 ub of Helena Sunrise on January 17 at the Staggering Ox for a Trivia Night
 ! This night is a fundraiser for our Head Start Parent Policy Council spon
 sored by the Rotary Club of Helena Sunrise. Bring your friends and family 
 to join us for a fun evening! \n
DTSTART;TZID=America/Denver:20190117T180000
DTEND;TZID=America/Denver:20190117T210000
LOCATION:Staggering Ox - 400 Euclid Avenue\, Helena\, MT 59601
SUMMARY:Trivia Night in Support of Head Start
END:VEVENT
END:VCALENDAR
