BEGIN:VCALENDAR
VERSION:2.0
PRODID:-//www.rmdc.net//NONSGML kigkonsult.se iCalcreator 2.30.10//
CALSCALE:GREGORIAN
METHOD:PUBLISH
UID:b1919bd2-96bc-4a03-9a83-994588a75736
X-WR-CALDESC:Agenda:  Strategic Planning
X-WR-RELCALID:d32c1177226e0023f03cd8150ad06617
X-WR-TIMEZONE:America/Denver
BEGIN:VTIMEZONE
TZID:America/Denver
BEGIN:STANDARD
TZNAME:MST
DTSTART:20181104T020000
TZOFFSETFROM:-0600
TZOFFSETTO:-0700
RDATE:20191103T020000
END:STANDARD
BEGIN:DAYLIGHT
TZNAME:MDT
DTSTART:20180311T020000
TZOFFSETFROM:-0700
TZOFFSETTO:-0600
RDATE:20190310T020000
RDATE:20200308T020000
END:DAYLIGHT
END:VTIMEZONE
BEGIN:VEVENT
UID:451dc8a5-3197-4edb-95af-9944763ba059
DTSTAMP:20260425T225717Z
DESCRIPTION:Agenda:  Strategic Planning
DTSTART;TZID=America/Denver:20190220T083000
DTEND;TZID=America/Denver:20190220T093000
LOCATION:Rocky Neighborhood Center  - 200 South Cruse Avenue\, Helena MT 59
 601
SUMMARY:Strategic Planning Committee Meeting
END:VEVENT
END:VCALENDAR
