BEGIN:VCALENDAR
VERSION:2.0
PRODID:-//www.rmdc.net//NONSGML kigkonsult.se iCalcreator 2.30.10//
CALSCALE:GREGORIAN
METHOD:PUBLISH
UID:8c4270b6-244e-41be-afb8-3eae96a0f630
X-WR-CALDESC:
X-WR-RELCALID:fc803d6b8f749daf6fb030e61642ea0e
X-WR-TIMEZONE:America/Denver
BEGIN:VTIMEZONE
TZID:America/Denver
BEGIN:STANDARD
TZNAME:MST
DTSTART:20181104T020000
TZOFFSETFROM:-0600
TZOFFSETTO:-0700
RDATE:20191103T020000
END:STANDARD
BEGIN:DAYLIGHT
TZNAME:MDT
DTSTART:20180311T020000
TZOFFSETFROM:-0700
TZOFFSETTO:-0600
RDATE:20190310T020000
RDATE:20200308T020000
END:DAYLIGHT
END:VTIMEZONE
BEGIN:VEVENT
UID:91a8f43d-e0dc-4f9f-9975-1145b68087c5
DTSTAMP:20260425T225916Z
DESCRIPTION:
DTSTART;TZID=America/Denver:20190228T153000
DTEND;TZID=America/Denver:20190228T173000
LOCATION:Neighborhood Center - Card Room
SUMMARY:Rocky Board of Directors Meeting
END:VEVENT
END:VCALENDAR
