BEGIN:VCALENDAR
VERSION:2.0
PRODID:-//www.rmdc.net//NONSGML kigkonsult.se iCalcreator 2.30.10//
CALSCALE:GREGORIAN
METHOD:PUBLISH
UID:74e899f5-e72e-4cb2-a3d6-4c069db76a44
X-WR-CALDESC:
X-WR-RELCALID:e3fe90c38ce234e434db1b147472364a
X-WR-TIMEZONE:America/Denver
BEGIN:VTIMEZONE
TZID:America/Denver
BEGIN:STANDARD
TZNAME:MST
DTSTART:20181104T020000
TZOFFSETFROM:-0600
TZOFFSETTO:-0700
RDATE:20191103T020000
RDATE:20201101T020000
END:STANDARD
BEGIN:DAYLIGHT
TZNAME:MDT
DTSTART:20190310T020000
TZOFFSETFROM:-0700
TZOFFSETTO:-0600
RDATE:20200308T020000
END:DAYLIGHT
END:VTIMEZONE
BEGIN:VEVENT
UID:224f42cf-4afe-444e-8986-1fb8f2830e7d
DTSTAMP:20260425T163854Z
DESCRIPTION:
DTSTART;TZID=America/Denver:20190627T153000
DTEND;TZID=America/Denver:20190627T173000
LOCATION:Neighborhood Center - Card Room
SUMMARY:Rocky Board of Directors Meeting
END:VEVENT
END:VCALENDAR
