BEGIN:VCALENDAR
VERSION:2.0
PRODID:-//www.rmdc.net//NONSGML kigkonsult.se iCalcreator 2.30.10//
CALSCALE:GREGORIAN
METHOD:PUBLISH
UID:93f96731-bb91-4e55-9fff-d95b38800044
X-WR-CALDESC:
X-WR-RELCALID:033cbb6513c28efe6af71413acae4d2d
X-WR-TIMEZONE:America/Denver
BEGIN:VTIMEZONE
TZID:America/Denver
BEGIN:STANDARD
TZNAME:MST
DTSTART:20181104T020000
TZOFFSETFROM:-0600
TZOFFSETTO:-0700
RDATE:20191103T020000
RDATE:20201101T020000
END:STANDARD
BEGIN:DAYLIGHT
TZNAME:MDT
DTSTART:20190310T020000
TZOFFSETFROM:-0700
TZOFFSETTO:-0600
RDATE:20200308T020000
END:DAYLIGHT
END:VTIMEZONE
BEGIN:VEVENT
UID:c06ba566-ed1e-4416-8058-70477a0c06a4
DTSTAMP:20260425T152619Z
DESCRIPTION:
DTSTART;TZID=America/Denver:20190725T153000
DTEND;TZID=America/Denver:20190725T173000
LOCATION:Neighborhood Center - Card Room
SUMMARY:Rocky Board of Directors Meeting
END:VEVENT
END:VCALENDAR
