BEGIN:VCALENDAR
VERSION:2.0
PRODID:-//www.rmdc.net//NONSGML kigkonsult.se iCalcreator 2.30.10//
CALSCALE:GREGORIAN
METHOD:PUBLISH
UID:22551cef-b3b3-4342-bbf6-f5fab7992753
X-WR-CALDESC:
X-WR-RELCALID:c7a0dd86803aa25cf6efcdecf1bf638a
X-WR-TIMEZONE:America/Denver
BEGIN:VTIMEZONE
TZID:America/Denver
BEGIN:STANDARD
TZNAME:MST
DTSTART:20181104T020000
TZOFFSETFROM:-0600
TZOFFSETTO:-0700
RDATE:20191103T020000
RDATE:20201101T020000
END:STANDARD
BEGIN:DAYLIGHT
TZNAME:MDT
DTSTART:20190310T020000
TZOFFSETFROM:-0700
TZOFFSETTO:-0600
RDATE:20200308T020000
END:DAYLIGHT
END:VTIMEZONE
BEGIN:VEVENT
UID:5bc508f0-702d-4db4-a0bb-b8af33667891
DTSTAMP:20260425T140211Z
DESCRIPTION:
DTSTART;TZID=America/Denver:20190829T153000
DTEND;TZID=America/Denver:20190829T173000
LOCATION:Neighborhood Center - Card Room
SUMMARY:Rocky Board of Directors Meeting
END:VEVENT
END:VCALENDAR
