BEGIN:VCALENDAR
VERSION:2.0
PRODID:-//www.rmdc.net//NONSGML kigkonsult.se iCalcreator 2.30.10//
CALSCALE:GREGORIAN
METHOD:PUBLISH
UID:fc1f24ab-a6b0-4af0-84c1-5937714f942b
X-WR-CALDESC:
X-WR-RELCALID:8b83aa535faec675a391a2070f0a3bb1
X-WR-TIMEZONE:America/Denver
BEGIN:VTIMEZONE
TZID:America/Denver
BEGIN:STANDARD
TZNAME:MST
DTSTART:20201101T020000
TZOFFSETFROM:-0600
TZOFFSETTO:-0700
RDATE:20211107T020000
RDATE:20221106T020000
END:STANDARD
BEGIN:DAYLIGHT
TZNAME:MDT
DTSTART:20210314T020000
TZOFFSETFROM:-0700
TZOFFSETTO:-0600
RDATE:20220313T020000
END:DAYLIGHT
END:VTIMEZONE
BEGIN:VEVENT
UID:7063a8d5-597d-46cb-abae-e8ef4881cc8e
DTSTAMP:20260424T043913Z
DESCRIPTION:
DTSTART;TZID=America/Denver:20210722T143000
DTEND;TZID=America/Denver:20210722T153000
LOCATION:
SUMMARY:Rocky Finance Committee Meeting
END:VEVENT
END:VCALENDAR
